BEGIN:VCALENDAR
VERSION:2.0
PRODID:-//AVÀ CORSICA - ECPv6.15.15//NONSGML v1.0//EN
CALSCALE:GREGORIAN
METHOD:PUBLISH
X-ORIGINAL-URL:https://avacorsica.fr
X-WR-CALDESC:Évènements pour AVÀ CORSICA
REFRESH-INTERVAL;VALUE=DURATION:PT1H
X-Robots-Tag:noindex
X-PUBLISHED-TTL:PT1H
BEGIN:VTIMEZONE
TZID:Europe/Paris
BEGIN:DAYLIGHT
TZOFFSETFROM:+0100
TZOFFSETTO:+0200
TZNAME:CEST
DTSTART:20240331T010000
END:DAYLIGHT
BEGIN:STANDARD
TZOFFSETFROM:+0200
TZOFFSETTO:+0100
TZNAME:CET
DTSTART:20241027T010000
END:STANDARD
BEGIN:DAYLIGHT
TZOFFSETFROM:+0100
TZOFFSETTO:+0200
TZNAME:CEST
DTSTART:20250330T010000
END:DAYLIGHT
BEGIN:STANDARD
TZOFFSETFROM:+0200
TZOFFSETTO:+0100
TZNAME:CET
DTSTART:20251026T010000
END:STANDARD
BEGIN:DAYLIGHT
TZOFFSETFROM:+0100
TZOFFSETTO:+0200
TZNAME:CEST
DTSTART:20260329T010000
END:DAYLIGHT
BEGIN:STANDARD
TZOFFSETFROM:+0200
TZOFFSETTO:+0100
TZNAME:CET
DTSTART:20261025T010000
END:STANDARD
BEGIN:DAYLIGHT
TZOFFSETFROM:+0100
TZOFFSETTO:+0200
TZNAME:CEST
DTSTART:20270328T010000
END:DAYLIGHT
BEGIN:STANDARD
TZOFFSETFROM:+0200
TZOFFSETTO:+0100
TZNAME:CET
DTSTART:20271031T010000
END:STANDARD
END:VTIMEZONE
BEGIN:VTIMEZONE
TZID:Europe/Paris
BEGIN:DAYLIGHT
TZOFFSETFROM:+0100
TZOFFSETTO:+0200
TZNAME:CEST
DTSTART:20240331T010000
END:DAYLIGHT
BEGIN:STANDARD
TZOFFSETFROM:+0200
TZOFFSETTO:+0100
TZNAME:CET
DTSTART:20241027T010000
END:STANDARD
BEGIN:DAYLIGHT
TZOFFSETFROM:+0100
TZOFFSETTO:+0200
TZNAME:CEST
DTSTART:20250330T010000
END:DAYLIGHT
BEGIN:STANDARD
TZOFFSETFROM:+0200
TZOFFSETTO:+0100
TZNAME:CET
DTSTART:20251026T010000
END:STANDARD
BEGIN:DAYLIGHT
TZOFFSETFROM:+0100
TZOFFSETTO:+0200
TZNAME:CEST
DTSTART:20260329T010000
END:DAYLIGHT
BEGIN:STANDARD
TZOFFSETFROM:+0200
TZOFFSETTO:+0100
TZNAME:CET
DTSTART:20261025T010000
END:STANDARD
END:VTIMEZONE
BEGIN:VEVENT
DTSTART;TZID=Europe/Paris:20260417T100000
DTEND;TZID=Europe/Paris:20260419T190000
DTSTAMP:20260420T113737
CREATED:20260118T151328Z
LAST-MODIFIED:20260401T202006Z
UID:3504-1776420000-1776625200@avacorsica.fr
SUMMARY:village corse Grasse
DESCRIPTION:
URL:https://avacorsica.fr/evenement/village-corse-grasse/
LOCATION:Cours Honoré Cresp\, Place du Cours Honore-Cresp\, Grasse\, 06130\, France
CATEGORIES:Concerts,soirée corse
ATTACH;FMTTYPE=image/jpeg:https://avacorsica.fr/wp-content/uploads/2026/01/village-2026.jpeg
END:VEVENT
BEGIN:VEVENT
DTSTART;VALUE=DATE:20260328
DTEND;VALUE=DATE:20260330
DTSTAMP:20260420T113737
CREATED:20260118T150718Z
LAST-MODIFIED:20260123T154542Z
UID:3501-1774656000-1774828799@avacorsica.fr
SUMMARY:stage polyphonies corses Grasse
DESCRIPTION:
URL:https://avacorsica.fr/evenement/stage-polyphonies-corses-grasse/
LOCATION:Centre Culturel Le Plongeoir\, 57 Avenue Honoré Lions\, Grasse\, 06130\, France
CATEGORIES:Concerts,soirée corse,Stages
ATTACH;FMTTYPE=image/png:https://avacorsica.fr/wp-content/uploads/2025/01/2019-_V3.png
ORGANIZER;CN="Association Korsoi":MAILTO:bernard.paolini@orange.fr
END:VEVENT
BEGIN:VEVENT
DTSTART;TZID=Europe/Paris:20251212T210000
DTEND;TZID=Europe/Paris:20251212T230000
DTSTAMP:20260420T113737
CREATED:20251009T132741Z
LAST-MODIFIED:20251009T133647Z
UID:3483-1765573200-1765580400@avacorsica.fr
SUMMARY:concert Avà Corsica
DESCRIPTION:
URL:https://avacorsica.fr/evenement/concert-ava-corsica-4/
LOCATION:Theux Belgique\, Belgium
CATEGORIES:Concerts
ATTACH;FMTTYPE=image/jpeg:https://avacorsica.fr/wp-content/uploads/2025/01/dedos-scaled.jpeg
END:VEVENT
BEGIN:VEVENT
DTSTART;TZID=Europe/Paris:20251206T203000
DTEND;TZID=Europe/Paris:20251206T223000
DTSTAMP:20260420T113737
CREATED:20250203T143231Z
LAST-MODIFIED:20250211T173414Z
UID:2956-1765053000-1765060200@avacorsica.fr
SUMMARY:concert Sine Die Meounes 83136
DESCRIPTION:
URL:https://avacorsica.fr/evenement/concert-sine-die/
LOCATION:Meounes\, Eglise\, Méounes les Montrieux\, 83136\, France
CATEGORIES:Concerts
ATTACH;FMTTYPE=image/jpeg:https://avacorsica.fr/wp-content/uploads/2025/02/Sine-Die-scaled.jpg
END:VEVENT
BEGIN:VEVENT
DTSTART;TZID=Europe/Paris:20250905T190000
DTEND;TZID=Europe/Paris:20250905T230000
DTSTAMP:20260420T113737
CREATED:20250501T080856Z
LAST-MODIFIED:20250501T080856Z
UID:3419-1757098800-1757113200@avacorsica.fr
SUMMARY:soirée corse
DESCRIPTION:
URL:https://avacorsica.fr/evenement/soiree-corse/
LOCATION:Vence\, La Régence Vence\, France
ATTACH;FMTTYPE=image/jpeg:https://avacorsica.fr/wp-content/uploads/2025/05/SINE-DIE-OK-scaled.jpg
END:VEVENT
BEGIN:VEVENT
DTSTART;TZID=Europe/Paris:20250824T200000
DTEND;TZID=Europe/Paris:20250824T223000
DTSTAMP:20260420T113737
CREATED:20250501T074647Z
LAST-MODIFIED:20250501T074647Z
UID:3411-1756065600-1756074600@avacorsica.fr
SUMMARY:concert Avà Corsica Lampaul Guimiliau 29400
DESCRIPTION:
URL:https://avacorsica.fr/evenement/concert-ava-corsica-lampaul-guimiliau-29400/
LOCATION:Lampaul Guimiliau 29400\, 29400\, France
CATEGORIES:Concerts
ATTACH;FMTTYPE=image/jpeg:https://avacorsica.fr/wp-content/uploads/2025/01/dedos-scaled.jpeg
END:VEVENT
BEGIN:VEVENT
DTSTART;TZID=Europe/Paris:20250822T203000
DTEND;TZID=Europe/Paris:20250822T220000
DTSTAMP:20260420T113737
CREATED:20250321T083305Z
LAST-MODIFIED:20250321T083305Z
UID:3400-1755894600-1755900000@avacorsica.fr
SUMMARY:concert Avà Plouescat 29430
DESCRIPTION:
URL:https://avacorsica.fr/evenement/concert-ava-plouescat-29430/
LOCATION:Plouescat\, France
CATEGORIES:Concerts
ATTACH;FMTTYPE=image/jpeg:https://avacorsica.fr/wp-content/uploads/2025/01/dedos-scaled.jpeg
END:VEVENT
BEGIN:VEVENT
DTSTART;TZID=Europe/Paris:20250821T210000
DTEND;TZID=Europe/Paris:20250821T230000
DTSTAMP:20260420T113737
CREATED:20250211T170929Z
LAST-MODIFIED:20250211T170929Z
UID:3336-1755810000-1755817200@avacorsica.fr
SUMMARY:concert Avà Corsica Roscoff 29680
DESCRIPTION:
URL:https://avacorsica.fr/evenement/concert-ava-corsica-roscoff-29680/
LOCATION:Roscoff\, Eglise Notre Dame de Croaz\, France
CATEGORIES:Concerts
ATTACH;FMTTYPE=image/jpeg:https://avacorsica.fr/wp-content/uploads/2025/01/dedos-scaled.jpeg
END:VEVENT
BEGIN:VEVENT
DTSTART;TZID=Europe/Paris:20250820T203000
DTEND;TZID=Europe/Paris:20250820T220000
DTSTAMP:20260420T113737
CREATED:20250321T083000Z
LAST-MODIFIED:20250321T083000Z
UID:3397-1755721800-1755727200@avacorsica.fr
SUMMARY:concert Avà Plougasnou 29630
DESCRIPTION:
URL:https://avacorsica.fr/evenement/concert-ava-plougasnou-29630/
LOCATION:Plougasnou\, France
CATEGORIES:Concerts
ATTACH;FMTTYPE=image/jpeg:https://avacorsica.fr/wp-content/uploads/2025/01/dedos-scaled.jpeg
END:VEVENT
BEGIN:VEVENT
DTSTART;TZID=Europe/Paris:20250819T200000
DTEND;TZID=Europe/Paris:20250819T223000
DTSTAMP:20260420T113737
CREATED:20250501T074131Z
LAST-MODIFIED:20250501T074131Z
UID:3408-1755633600-1755642600@avacorsica.fr
SUMMARY:concert Sine Die Sibiril 29250
DESCRIPTION:
URL:https://avacorsica.fr/evenement/concert-sine-die-sibiril-29250/
LOCATION:Sibiril\, Château Kerouzere\, France
CATEGORIES:Concerts
ATTACH;FMTTYPE=image/jpeg:https://avacorsica.fr/wp-content/uploads/2025/03/essai-16-ok.jpg
END:VEVENT
BEGIN:VEVENT
DTSTART;TZID=Europe/Paris:20250818T203000
DTEND;TZID=Europe/Paris:20250818T210000
DTSTAMP:20260420T113737
CREATED:20250305T163439Z
LAST-MODIFIED:20250305T163733Z
UID:3388-1755549000-1755550800@avacorsica.fr
SUMMARY:concert Sine Die Guimiliau 29400
DESCRIPTION:
URL:https://avacorsica.fr/evenement/concert-sine-die-guimiliau-29400/
CATEGORIES:Concerts
ATTACH;FMTTYPE=image/jpeg:https://avacorsica.fr/wp-content/uploads/2025/03/essai-16-ok.jpg
END:VEVENT
BEGIN:VEVENT
DTSTART;TZID=Europe/Paris:20250814T210000
DTEND;TZID=Europe/Paris:20250814T230000
DTSTAMP:20260420T113737
CREATED:20250211T170530Z
LAST-MODIFIED:20250211T170530Z
UID:3333-1755205200-1755212400@avacorsica.fr
SUMMARY:concert Avà Corsica St Julien Peyrolas 30760
DESCRIPTION:
URL:https://avacorsica.fr/evenement/concert-ava-corsica-st-julien-peyrolas-30760/
LOCATION:St Julien de Peyrolas\, Theatre Verdure\, France
CATEGORIES:Concerts
ATTACH;FMTTYPE=image/jpeg:https://avacorsica.fr/wp-content/uploads/2025/01/dedos-scaled.jpeg
END:VEVENT
BEGIN:VEVENT
DTSTART;TZID=Europe/Paris:20250813T210000
DTEND;TZID=Europe/Paris:20250813T230000
DTSTAMP:20260420T113737
CREATED:20250211T170154Z
LAST-MODIFIED:20250211T170154Z
UID:3329-1755118800-1755126000@avacorsica.fr
SUMMARY:concert Avà Corsica St Gervais 30200
DESCRIPTION:
URL:https://avacorsica.fr/evenement/concert-ava-corsica-st-gervais-30200/
LOCATION:St Gervais\, chapelle de Naste\, France
CATEGORIES:Concerts
ATTACH;FMTTYPE=image/jpeg:https://avacorsica.fr/wp-content/uploads/2025/01/dedos-scaled.jpeg
END:VEVENT
BEGIN:VEVENT
DTSTART;TZID=Europe/Paris:20250808T210000
DTEND;TZID=Europe/Paris:20250808T230000
DTSTAMP:20260420T113737
CREATED:20250506T153852Z
LAST-MODIFIED:20250506T154635Z
UID:3431-1754686800-1754694000@avacorsica.fr
SUMMARY:concert Sine Die Sauze
DESCRIPTION:
URL:https://avacorsica.fr/evenement/concert-sine-die-3/
LOCATION:Place Village\, France
CATEGORIES:Concerts
ATTACH;FMTTYPE=image/jpeg:https://avacorsica.fr/wp-content/uploads/2025/03/essai-16-ok-1.jpg
END:VEVENT
BEGIN:VEVENT
DTSTART;TZID=Europe/Paris:20250805T213000
DTEND;TZID=Europe/Paris:20250805T233000
DTSTAMP:20260420T113737
CREATED:20250203T141010Z
LAST-MODIFIED:20250211T164744Z
UID:2952-1754429400-1754436600@avacorsica.fr
SUMMARY:concert Avà Corsica St Maximin 83470
DESCRIPTION:
URL:https://avacorsica.fr/evenement/concert-ava-corsica-st-maximin/
LOCATION:parvis Basilique\, Parvis Basilique\, Sanit Maximin\, 83470\, France
CATEGORIES:Concerts
ATTACH;FMTTYPE=image/jpeg:https://avacorsica.fr/wp-content/uploads/2025/01/dedos-scaled.jpeg
END:VEVENT
BEGIN:VEVENT
DTSTART;TZID=Europe/Paris:20250729T210000
DTEND;TZID=Europe/Paris:20250729T230000
DTSTAMP:20260420T113737
CREATED:20250506T153437Z
LAST-MODIFIED:20250506T154457Z
UID:3424-1753822800-1753830000@avacorsica.fr
SUMMARY:concert Avà Corsica Tourrettes Levens
DESCRIPTION:
URL:https://avacorsica.fr/evenement/concert-ava-corsica-3/
LOCATION:Tourrettes Levens\, Château\, France
CATEGORIES:Concerts
ATTACH;FMTTYPE=image/jpeg:https://avacorsica.fr/wp-content/uploads/2025/01/dedos-scaled.jpeg
END:VEVENT
BEGIN:VEVENT
DTSTART;TZID=Europe/Paris:20250725T210000
DTEND;TZID=Europe/Paris:20250725T230000
DTSTAMP:20260420T113737
CREATED:20250506T153236Z
LAST-MODIFIED:20250506T154358Z
UID:3421-1753477200-1753484400@avacorsica.fr
SUMMARY:concert Avà Corsica Tourrettes sur Loup
DESCRIPTION:
URL:https://avacorsica.fr/evenement/concert-ava-corsica-2/
LOCATION:Tourrettes sur Loup\, Place\, France
CATEGORIES:Concerts
ATTACH;FMTTYPE=image/jpeg:https://avacorsica.fr/wp-content/uploads/2025/01/dedos-scaled.jpeg
END:VEVENT
BEGIN:VEVENT
DTSTART;TZID=Europe/Paris:20250722T210000
DTEND;TZID=Europe/Paris:20250722T223000
DTSTAMP:20260420T113737
CREATED:20250202T170033Z
LAST-MODIFIED:20250211T164944Z
UID:2935-1753218000-1753223400@avacorsica.fr
SUMMARY:concert Avà Corsica Lacapelle 46120
DESCRIPTION:
URL:https://avacorsica.fr/evenement/concert-ava-corsica/
LOCATION:Lacapelle Marival 46120\, salle concert Lacapelle\, Lacapelle Marival\, 46120\, France
CATEGORIES:Concerts
ATTACH;FMTTYPE=image/jpeg:https://avacorsica.fr/wp-content/uploads/2025/01/dedos-scaled.jpeg
END:VEVENT
BEGIN:VEVENT
DTSTART;TZID=Europe/Paris:20250721T210000
DTEND;TZID=Europe/Paris:20250721T230000
DTSTAMP:20260420T113737
CREATED:20250211T164601Z
LAST-MODIFIED:20250211T164601Z
UID:3314-1753131600-1753138800@avacorsica.fr
SUMMARY:concert Avà Corsica Nespouls 19600
DESCRIPTION:
URL:https://avacorsica.fr/evenement/concert-ava-corsica-nespouls-19600/
LOCATION:Nespouls\, France
CATEGORIES:Concerts
ATTACH;FMTTYPE=image/jpeg:https://avacorsica.fr/wp-content/uploads/2025/01/dedos-scaled.jpeg
END:VEVENT
BEGIN:VEVENT
DTSTART;TZID=Europe/Paris:20250720T180000
DTEND;TZID=Europe/Paris:20250720T193000
DTSTAMP:20260420T113737
CREATED:20250211T165349Z
LAST-MODIFIED:20250211T165349Z
UID:3321-1753034400-1753039800@avacorsica.fr
SUMMARY:concert Avà Corsica Milhac 46300
DESCRIPTION:
URL:https://avacorsica.fr/evenement/concert-ava-corsica-milhac-46300/
LOCATION:Milhac\, France
CATEGORIES:Concerts
ATTACH;FMTTYPE=image/jpeg:https://avacorsica.fr/wp-content/uploads/2025/01/dedos-scaled.jpeg
END:VEVENT
BEGIN:VEVENT
DTSTART;TZID=Europe/Paris:20250719T210000
DTEND;TZID=Europe/Paris:20250719T230000
DTSTAMP:20260420T113737
CREATED:20250211T165722Z
LAST-MODIFIED:20250211T165722Z
UID:3325-1752958800-1752966000@avacorsica.fr
SUMMARY:concert Avà Corsica St Pantaleon de l'Arches 19600
DESCRIPTION:
URL:https://avacorsica.fr/evenement/concert-ava-corsica-st-pantaleon-de-larches-19600/
LOCATION:St Pantaleon de l’Arches
CATEGORIES:Concerts
ATTACH;FMTTYPE=image/jpeg:https://avacorsica.fr/wp-content/uploads/2025/01/dedos-scaled.jpeg
END:VEVENT
BEGIN:VEVENT
DTSTART;TZID=Europe/Paris:20250718T200000
DTEND;TZID=Europe/Paris:20250718T223000
DTSTAMP:20260420T113737
CREATED:20250501T073611Z
LAST-MODIFIED:20250501T073611Z
UID:3405-1752868800-1752877800@avacorsica.fr
SUMMARY:concert Avà Corsica Monpezat de Quercy 82270
DESCRIPTION:
URL:https://avacorsica.fr/evenement/concert-ava-corsica-monpezat-de-quercy-82270/
LOCATION:Montpezat du Quercy\, Château\, France
CATEGORIES:Concerts
ATTACH;FMTTYPE=image/jpeg:https://avacorsica.fr/wp-content/uploads/2025/01/dedos-scaled.jpeg
END:VEVENT
BEGIN:VEVENT
DTSTART;TZID=Europe/Paris:20250717T210000
DTEND;TZID=Europe/Paris:20250717T230000
DTSTAMP:20260420T113737
CREATED:20250211T163412Z
LAST-MODIFIED:20250220T112020Z
UID:3309-1752786000-1752793200@avacorsica.fr
SUMMARY:concert Avà Corsica Monpazier 24540
DESCRIPTION:
URL:https://avacorsica.fr/evenement/concert-ava-corsica-monpazier-24540/
LOCATION:Monpazier
CATEGORIES:Concerts
ATTACH;FMTTYPE=image/jpeg:https://avacorsica.fr/wp-content/uploads/2025/01/dedos-scaled.jpeg
END:VEVENT
BEGIN:VEVENT
DTSTART;TZID=Europe/Paris:20250711T210000
DTEND;TZID=Europe/Paris:20250711T230000
DTSTAMP:20260420T113737
CREATED:20250506T153717Z
LAST-MODIFIED:20250506T154551Z
UID:3427-1752267600-1752274800@avacorsica.fr
SUMMARY:concert Sine Die Les Ferres
DESCRIPTION:
URL:https://avacorsica.fr/evenement/concert-sine-die-2/
LOCATION:Place Eglise\, France
CATEGORIES:Concerts
ATTACH;FMTTYPE=image/jpeg:https://avacorsica.fr/wp-content/uploads/2025/03/essai-16-ok-1.jpg
END:VEVENT
BEGIN:VEVENT
DTSTART;TZID=Europe/Paris:20250614T210000
DTEND;TZID=Europe/Paris:20250614T230000
DTSTAMP:20260420T113737
CREATED:20250211T171749Z
LAST-MODIFIED:20250211T171749Z
UID:3346-1749934800-1749942000@avacorsica.fr
SUMMARY:concert Sine Die Grasse 06130
DESCRIPTION:
URL:https://avacorsica.fr/evenement/concert-sine-die-grasse-06130/
LOCATION:Grasse\, Place du Cours\, France
CATEGORIES:Concerts
ATTACH;FMTTYPE=image/jpeg:https://avacorsica.fr/wp-content/uploads/2025/02/Sine-Die-scaled.jpg
END:VEVENT
BEGIN:VEVENT
DTSTART;TZID=Europe/Paris:20250614T190000
DTEND;TZID=Europe/Paris:20250614T233000
DTSTAMP:20260420T113737
CREATED:20250116T153848Z
LAST-MODIFIED:20250211T171212Z
UID:2303-1749927600-1749943800@avacorsica.fr
SUMMARY:Paella et concert corse Grasse 06130
DESCRIPTION:Venez passer une bonne soirée en dégustant une bonne paella et assister à un concert gratuit sur place. La salle est entièrement rénovée depuis décembre 2023
URL:https://avacorsica.fr/evenement/paella-et-concert-corse/
LOCATION:Centre Culturel Le Plongeoir\, 57 Avenue Honoré Lions\, Grasse\, 06130\, France
CATEGORIES:Concerts
ATTACH;FMTTYPE=image/jpeg:https://avacorsica.fr/wp-content/uploads/2025/01/DSC_0166-scaled.jpg
END:VEVENT
BEGIN:VEVENT
DTSTART;TZID=Europe/Paris:20250614T090000
DTEND;TZID=Europe/Paris:20250615T183000
DTSTAMP:20260420T113737
CREATED:20250114T143610Z
LAST-MODIFIED:20250131T162744Z
UID:2152-1749891600-1750012200@avacorsica.fr
SUMMARY:Stage polyphonies corses\, bulgares et grecques
DESCRIPTION:Stage 2 jours polyphonies corses\, bulgares et grecques. petits déjeuners\, picnics et diner samedi 130€ le 14 juin 2025 stage de 09h00 à 18h30 \, petits déjeuners\, picnics et diner inclus dans le prix du stage . Le 15 juin 2025 stage de 09h00 à 18h30 \, petits déjeuners et picnics inclus. Concerts gratuits chaque soir. Les intervenants au stage 2025 sont : Jérôme Casalonga\, Diana Barzeva et Kalliroï Raouzerou. Tous professionnels et enseignants en musicologie. Places limitées. Tel: 0688378386
URL:https://avacorsica.fr/evenement/stage-de-juin/
LOCATION:Centre Culturel Le Plongeoir\, 57 Avenue Honoré Lions\, Grasse\, 06130\, France
CATEGORIES:Stages
ATTACH;FMTTYPE=image/jpeg:https://avacorsica.fr/wp-content/uploads/2025/01/dedos-scaled.jpeg
END:VEVENT
BEGIN:VEVENT
DTSTART;TZID=Europe/Paris:20250523T193000
DTEND;TZID=Europe/Paris:20250523T230000
DTSTAMP:20260420T113737
CREATED:20250501T075601Z
LAST-MODIFIED:20250501T075601Z
UID:3414-1748028600-1748041200@avacorsica.fr
SUMMARY:soirée corse Vence 06140
DESCRIPTION:
URL:https://avacorsica.fr/evenement/soiree-corse-vence-06140/
LOCATION:Vence\, La Régence Vence\, France
CATEGORIES:soirée corse
ATTACH;FMTTYPE=image/jpeg:https://avacorsica.fr/wp-content/uploads/2025/05/SINE-DIE-OK-scaled.jpg
END:VEVENT
BEGIN:VEVENT
DTSTART;TZID=Europe/Paris:20250412T200000
DTEND;TZID=Europe/Paris:20250412T230000
DTSTAMP:20260420T113737
CREATED:20250211T171507Z
LAST-MODIFIED:20250211T171507Z
UID:3342-1744488000-1744498800@avacorsica.fr
SUMMARY:concert Avà Corsica Grasse 06130
DESCRIPTION:
URL:https://avacorsica.fr/evenement/concert-ava-corsica-grasse-06130/
LOCATION:Grasse\, Place du Cours\, France
CATEGORIES:Concerts
ATTACH;FMTTYPE=image/jpeg:https://avacorsica.fr/wp-content/uploads/2025/01/dedos-scaled.jpeg
END:VEVENT
BEGIN:VEVENT
DTSTART;VALUE=DATE:20250412
DTEND;VALUE=DATE:20250414
DTSTAMP:20260420T113737
CREATED:20250130T124558Z
LAST-MODIFIED:20250130T130723Z
UID:2742-1744416000-1744588799@avacorsica.fr
SUMMARY:Concert - Village Corse à Grasse
DESCRIPTION:
URL:https://avacorsica.fr/evenement/concert-village-corse-a-grasse/
LOCATION:Cours Honoré Cresp\, Place du Cours Honore-Cresp\, Grasse\, 06130\, France
CATEGORIES:Concerts
ATTACH;FMTTYPE=image/jpeg:https://avacorsica.fr/wp-content/uploads/2025/01/Village-Corse-avril-2025.jpeg
END:VEVENT
END:VCALENDAR